Workbook

Sheet BCA Summary
A1: Benefit Cost Analysis | E1: BUILD Grant
A2: US 85/120th Avenue Grade-Separation and Interchange Project | E2: 2024-2055
D3: 0.07 | E3: discount rate
A4: Total Costs
A5: Project Costs
B6: Present Value of Total Costs | E6: =BCA!D59 -> 1.235262e+08
A7: Total Costs | E7: =E6 -> 1.235262e+08
A8: Total Project Benefits
A9: Operating & Maintenance Expenditures
B10: Maintenance | E10: =BCA!D17 -> 252747.01
A11: Train Operating and Social Costs
B12: =BCA!B20 -> Freight Train Idling | E12: =BCA!D21 -> 384007.57
B13: =BCA!B22 -> Non-CO2 Emission Costs | E13: =BCA!D23 -> 1184641.1
A15: Residual Value & Remaining Service Life
B16: Residual Value | E16: =BCA!D27 -> 10909884
A17: Safety
B18: Reduction in Property Damage Only Crashes | E18: =BCA!D38 -> 2724481.8
B19: Reduction in Injury Crashes | E19: =BCA!D35 -> 28299472
B20: Reduction in Fatal Crashes | E20: =BCA!D32 -> 1005487.3
A21: Value of Travel Time Savings
B22: Travel Time Savings - Private Vehicle Travel | E22: =BCA!D42 -> 1.0656423e+08
B23: Travel Time Savings - Commercial Vehicle Travel | E23: =BCA!D44 -> 5752444.1
A24: Emissions Reductions Benefits
B25: Emissions Reductions | E25: =BCA!D47+BCA!D49+BCA!D51 -> 58519.501
A28: Total Benefits | E28: =BCA!D54 -> 2.7515885e+08
A29: Benefit Cost Ratio | E29: =BCA!D66 -> 2.23 : 1
A30: Net Present Value of Entire Project | E30: =BCA!D65 -> 1.5163265e+08
B31: ="*Note: Values stated in "&C37&"$" -> *Note: Values stated in 2024$
A35: Reference BCA Guidance:
B36: Appendix A of the USDOT Benefit-Cost Analysis Guidance for Discretionary Grant Programs, December 2025
B37: All BCA costs and benefits are adjusted to reflect | C37: 2024 | D37: $

Sheet BCA
A1: ='BCA Summary'!E1&" Benefit Cost Analysis" -> BUILD Grant Benefit Cost Analysis
A2: ='BCA Summary'!A2 -> US 85/120th Avenue Grade-Separation and Interchange Project
A4: Total Costs
B5: Present Value of Total Costs (7% Discount Rate) | D5: =D62 -> 1.235262e+08
A6: Total Project Benefits
B7: Net Present Value (7% Discount Rate) | D7: =D65 -> 1.5163265e+08
A9: Overall Benefit-Cost Ratio
B10: Benefit-Cost Ratio 7% Discount Rate | D10: =D66 -> 2.23 : 1
A13: Benefits | E13: ='Timeline & Costs'!H6 -> 2018 | F13: ='Timeline & Costs'!I6 -> 2019 | G13: ='Timeline & Costs'!J6 -> 2020 | H13: ='Timeline & Costs'!K6 -> 2021 | I13: ='Timeline & Costs'!L6 -> 2022 | J13: ='Timeline & Costs'!M6 -> 2023 | K13: ='Timeline & Costs'!N6 -> 2024 | L13: ='Timeline & Costs'!O6 -> 2025 | ... AP13: ='Timeline & Costs'!AS6 -> 2055
A14: ="Benefits calculated on the change from Baseline to "&'BCA Summary'!E1&" Scenario" -> Benefits calculated on the change from Baseline to BUILD Grant Scenario
A15: Operations & Maintenance
B16: Avoided Maintenance Costs - Roadway | D16: =SUM(E16:AP16) -> -1531000 | E16: ='Summary of Benefits'!H9 -> 0 | F16: ='Summary of Benefits'!I9 -> 0 | G16: ='Summary of Benefits'!J9 -> 0 | H16: ='Summary of Benefits'!K9 -> 0 | I16: ='Summary of Benefits'!L9 -> 0 | J16: ='Summary of Benefits'!M9 -> 0 | K16: ='Summary of Benefits'!N9 -> 0 | L16: ='Summary of Benefits'!O9 -> 0 | ... AP16: ='Summary of Benefits'!AS9 -> -83250
C17: Present Value at 7% Discount Rate | D17: =SUM(E17:AP17) -> 252747.01 | E17: =(E16)/((1+'BCA Summary'!$D$3)^(E$13-'BCA Summary'!$C$37)) -> 0 | F17: =(F16)/((1+'BCA Summary'!$D$3)^(F$13-'BCA Summary'!$C$37)) -> 0 | G17: =(G16)/((1+'BCA Summary'!$D$3)^(G$13-'BCA Summary'!$C$37)) -> 0 | H17: =(H16)/((1+'BCA Summary'!$D$3)^(H$13-'BCA Summary'!$C$37)) -> 0 | I17: =(I16)/((1+'BCA Summary'!$D$3)^(I$13-'BCA Summary'!$C$37)) -> 0 | J17: =(J16)/((1+'BCA Summary'!$D$3)^(J$13-'BCA Summary'!$C$37)) -> 0 | K17: =(K16)/((1+'BCA Summary'!$D$3)^(K$13-'BCA Summary'!$C$37)) -> 0 | L17: =(L16)/((1+'BCA Summary'!$D$3)^(L$13-'BCA Summary'!$C$37)) -> 0 | ... AP17: =(AP16)/((1+'BCA Summary'!$D$3)^(AP$13-'BCA Summary'!$C$37)) -> -10220.853
A19: Train Operating and Social Costs
B20: Freight Train Idling | D20: =SUM(E20:AP20) -> 1346262.2 | E20: ='Summary of Benefits'!E$15*'Summary of Benefits'!$D$135 -> 0 | F20: ='Summary of Benefits'!F$15*'Summary of Benefits'!$D$135 -> 0 | G20: ='Summary of Benefits'!G$15*'Summary of Benefits'!$D$135 -> 0 | H20: ='Summary of Benefits'!H$15*'Summary of Benefits'!$D$135 -> 0 | I20: ='Summary of Benefits'!I$15*'Summary of Benefits'!$D$135 -> 0 | J20: ='Summary of Benefits'!J$15*'Summary of Benefits'!$D$135 -> 0 | K20: ='Summary of Benefits'!K$15*'Summary of Benefits'!$D$135 -> 0 | L20: ='Summary of Benefits'!L$15*'Summary of Benefits'!$D$135 -> 0 | ... AP20: ='Summary of Benefits'!AP$15*'Summary of Benefits'!$D$135 -> 58533.139
C21: Present Value at 7% Discount Rate | D21: =SUM(E21:AP21) -> 384007.57 | E21: =(E20)/((1+'BCA Summary'!$D$3)^(E$13-'BCA Summary'!$C$37)) -> 0 | F21: =(F20)/((1+'BCA Summary'!$D$3)^(F$13-'BCA Summary'!$C$37)) -> 0 | G21: =(G20)/((1+'BCA Summary'!$D$3)^(G$13-'BCA Summary'!$C$37)) -> 0 | H21: =(H20)/((1+'BCA Summary'!$D$3)^(H$13-'BCA Summary'!$C$37)) -> 0 | I21: =(I20)/((1+'BCA Summary'!$D$3)^(I$13-'BCA Summary'!$C$37)) -> 0 | J21: =(J20)/((1+'BCA Summary'!$D$3)^(J$13-'BCA Summary'!$C$37)) -> 0 | K21: =(K20)/((1+'BCA Summary'!$D$3)^(K$13-'BCA Summary'!$C$37)) -> 0 | L21: =(L20)/((1+'BCA Summary'!$D$3)^(L$13-'BCA Summary'!$C$37)) -> 0 | ... AP21: =(AP20)/((1+'BCA Summary'!$D$3)^(AP$13-'BCA Summary'!$C$37)) -> 7186.2894
B22: Non-CO2 Emission Costs | D22: =SUM(E22:AP22) -> 4153140.9 | E22: ='Summary of Benefits'!E$15*'Summary of Benefits'!$E$135 -> 0 | F22: ='Summary of Benefits'!F$15*'Summary of Benefits'!$E$135 -> 0 | G22: ='Summary of Benefits'!G$15*'Summary of Benefits'!$E$135 -> 0 | H22: ='Summary of Benefits'!H$15*'Summary of Benefits'!$E$135 -> 0 | I22: ='Summary of Benefits'!I$15*'Summary of Benefits'!$E$135 -> 0 | J22: ='Summary of Benefits'!J$15*'Summary of Benefits'!$E$135 -> 0 | K22: ='Summary of Benefits'!K$15*'Summary of Benefits'!$E$135 -> 0 | L22: ='Summary of Benefits'!L$15*'Summary of Benefits'!$E$135 -> 0 | ... AP22: ='Summary of Benefits'!AP$15*'Summary of Benefits'!$E$135 -> 180571.34
C23: Present Value at 7% Discount Rate | D23: =SUM(E23:AP23) -> 1184641.1 | E23: =(E22)/((1+'BCA Summary'!$D$3)^(E$13-'BCA Summary'!$C$37)) -> 0 | F23: =(F22)/((1+'BCA Summary'!$D$3)^(F$13-'BCA Summary'!$C$37)) -> 0 | G23: =(G22)/((1+'BCA Summary'!$D$3)^(G$13-'BCA Summary'!$C$37)) -> 0 | H23: =(H22)/((1+'BCA Summary'!$D$3)^(H$13-'BCA Summary'!$C$37)) -> 0 | I23: =(I22)/((1+'BCA Summary'!$D$3)^(I$13-'BCA Summary'!$C$37)) -> 0 | J23: =(J22)/((1+'BCA Summary'!$D$3)^(J$13-'BCA Summary'!$C$37)) -> 0 | K23: =(K22)/((1+'BCA Summary'!$D$3)^(K$13-'BCA Summary'!$C$37)) -> 0 | L23: =(L22)/((1+'BCA Summary'!$D$3)^(L$13-'BCA Summary'!$C$37)) -> 0 | ... AP23: =(AP22)/((1+'BCA Summary'!$D$3)^(AP$13-'BCA Summary'!$C$37)) -> 22169.287
A25: Residual Value & Remaining Service Life
B26: Residual Value | D26: =SUM(E26:AP26) -> 88862235 | AP26: ='Residual Value'!K7 -> 88862235
C27: Present Value at 7% Discount Rate | D27: =SUM(E27:AP27) -> 10909884 | E27: =(E26)/((1+'BCA Summary'!$D$3)^(E$13-2018)) -> 0 | F27: =(F26)/((1+'BCA Summary'!$D$3)^(F$13-2018)) -> 0 | G27: =(G26)/((1+'BCA Summary'!$D$3)^(G$13-2018)) -> 0 | H27: =(H26)/((1+'BCA Summary'!$D$3)^(H$13-2018)) -> 0 | I27: =(I26)/((1+'BCA Summary'!$D$3)^(I$13-2018)) -> 0 | J27: =(J26)/((1+'BCA Summary'!$D$3)^(J$13-2018)) -> 0 | K27: =(K26)/((1+'BCA Summary'!$D$3)^(K$13-2018)) -> 0 | L27: =(L26)/((1+'BCA Summary'!$D$3)^(L$13-2018)) -> 0 | ... AO27: =(AO26)/((1+'BCA Summary'!$D$3)^(AO$13-2018)) -> 0 | AP27: =(AP26)/((1+'BCA Summary'!$D$3)^(AP$13-'BCA Summary'!$C$37)) -> 10909884
A29: Safety
B30: Reduction in Fatal Accidents per year - Roadway | D30: =SUM(E30:AP30) -> 0 | E30: ='Summary of Benefits'!H20*'Summary of Benefits'!$D$82 -> 0 | F30: ='Summary of Benefits'!I20*'Summary of Benefits'!$D$82 -> 0 | G30: ='Summary of Benefits'!J20*'Summary of Benefits'!$D$82 -> 0 | H30: ='Summary of Benefits'!K20*'Summary of Benefits'!$D$82 -> 0 | I30: ='Summary of Benefits'!L20*'Summary of Benefits'!$D$82 -> 0 | J30: ='Summary of Benefits'!M20*'Summary of Benefits'!$D$82 -> 0 | K30: ='Summary of Benefits'!N20*'Summary of Benefits'!$D$82 -> 0 | L30: ='Summary of Benefits'!O20*'Summary of Benefits'!$D$82 -> 0 | ... AP30: ='Summary of Benefits'!AS20*'Summary of Benefits'!$D$82 -> 0
B31: Reduction in Fatal Accidents per year - Rail | D31: =SUM(E31:AP31) -> 3140374.2 | E31: ='Summary of Benefits'!H33*'Summary of Benefits'!$D$103 -> 0 | F31: ='Summary of Benefits'!I33*'Summary of Benefits'!$D$103 -> 0 | G31: ='Summary of Benefits'!J33*'Summary of Benefits'!$D$103 -> 0 | H31: ='Summary of Benefits'!K33*'Summary of Benefits'!$D$103 -> 0 | I31: ='Summary of Benefits'!L33*'Summary of Benefits'!$D$103 -> 0 | J31: ='Summary of Benefits'!M33*'Summary of Benefits'!$D$103 -> 0 | K31: ='Summary of Benefits'!N33*'Summary of Benefits'!$D$103 -> 0 | L31: ='Summary of Benefits'!O33*'Summary of Benefits'!$D$103 -> 0 | ... AP31: ='Summary of Benefits'!AS33*'Summary of Benefits'!$D$103 -> 125770.33
C32: Present Value at 7% Discount Rate | D32: =SUM(E32:AP32) -> 1005487.3 | E32: =(E30+E31)/((1+'BCA Summary'!$D$3)^(E$13-'BCA Summary'!$C$37)) -> 0 | F32: =(F30+F31)/((1+'BCA Summary'!$D$3)^(F$13-'BCA Summary'!$C$37)) -> 0 | G32: =(G30+G31)/((1+'BCA Summary'!$D$3)^(G$13-'BCA Summary'!$C$37)) -> 0 | H32: =(H30+H31)/((1+'BCA Summary'!$D$3)^(H$13-'BCA Summary'!$C$37)) -> 0 | I32: =(I30+I31)/((1+'BCA Summary'!$D$3)^(I$13-'BCA Summary'!$C$37)) -> 0 | J32: =(J30+J31)/((1+'BCA Summary'!$D$3)^(J$13-'BCA Summary'!$C$37)) -> 0 | K32: =(K30+K31)/((1+'BCA Summary'!$D$3)^(K$13-'BCA Summary'!$C$37)) -> 0 | L32: =(L30+L31)/((1+'BCA Summary'!$D$3)^(L$13-'BCA Summary'!$C$37)) -> 0 | ... AP32: =(AP30+AP31)/((1+'BCA Summary'!$D$3)^(AP$13-'BCA Summary'!$C$37)) -> 15441.202
B33: Reduction in Injury Accidents per year - Roadway | D33: =SUM(E33:AP33) -> 90805306 | E33: ='Summary of Benefits'!H24*'Summary of Benefits'!$D$79 -> 0 | F33: ='Summary of Benefits'!I24*'Summary of Benefits'!$D$79 -> 0 | G33: ='Summary of Benefits'!J24*'Summary of Benefits'!$D$79 -> 0 | H33: ='Summary of Benefits'!K24*'Summary of Benefits'!$D$79 -> 0 | I33: ='Summary of Benefits'!L24*'Summary of Benefits'!$D$79 -> 0 | J33: ='Summary of Benefits'!M24*'Summary of Benefits'!$D$79 -> 0 | K33: ='Summary of Benefits'!N24*'Summary of Benefits'!$D$79 -> 0 | L33: ='Summary of Benefits'!O24*'Summary of Benefits'!$D$79 -> 0 | ... AP33: ='Summary of Benefits'!AS24*'Summary of Benefits'!$D$79 -> 3992181.7
B34: Reduction in Injury Accidents per year - Rail | D34: =SUM(E34:AP34) -> 187637.2 | E34: ='Summary of Benefits'!H37*'Summary of Benefits'!$D$102 -> 0 | F34: ='Summary of Benefits'!I37*'Summary of Benefits'!$D$102 -> 0 | G34: ='Summary of Benefits'!J37*'Summary of Benefits'!$D$102 -> 0 | H34: ='Summary of Benefits'!K37*'Summary of Benefits'!$D$102 -> 0 | I34: ='Summary of Benefits'!L37*'Summary of Benefits'!$D$102 -> 0 | J34: ='Summary of Benefits'!M37*'Summary of Benefits'!$D$102 -> 0 | K34: ='Summary of Benefits'!N37*'Summary of Benefits'!$D$102 -> 0 | L34: ='Summary of Benefits'!O37*'Summary of Benefits'!$D$102 -> 0 | ... AP34: ='Summary of Benefits'!AS37*'Summary of Benefits'!$D$102 -> 7515.7716
C35: Present Value at 7% Discount Rate | D35: =SUM(E35:AP35) -> 28299472 | E35: =(E33+E34)/((1+'BCA Summary'!$D$3)^(E$13-'BCA Summary'!$C$37)) -> 0 | F35: =(F33+F34)/((1+'BCA Summary'!$D$3)^(F$13-'BCA Summary'!$C$37)) -> 0 | G35: =(G33+G34)/((1+'BCA Summary'!$D$3)^(G$13-'BCA Summary'!$C$37)) -> 0 | H35: =(H33+H34)/((1+'BCA Summary'!$D$3)^(H$13-'BCA Summary'!$C$37)) -> 0 | I35: =(I33+I34)/((1+'BCA Summary'!$D$3)^(I$13-'BCA Summary'!$C$37)) -> 0 | J35: =(J33+J34)/((1+'BCA Summary'!$D$3)^(J$13-'BCA Summary'!$C$37)) -> 0 | K35: =(K33+K34)/((1+'BCA Summary'!$D$3)^(K$13-'BCA Summary'!$C$37)) -> 0 | L35: =(L33+L34)/((1+'BCA Summary'!$D$3)^(L$13-'BCA Summary'!$C$37)) -> 0 | ... AP35: =(AP33+AP34)/((1+'BCA Summary'!$D$3)^(AP$13-'BCA Summary'!$C$37)) -> 491054.89
B36: Reduction in PDO accidents per year - Roadway | D36: =SUM(E36:AP36) -> 8585172.4 | E36: ='Summary of Benefits'!H28*'Summary of Benefits'!$D$76 -> 0 | F36: ='Summary of Benefits'!I28*'Summary of Benefits'!$D$76 -> 0 | G36: ='Summary of Benefits'!J28*'Summary of Benefits'!$D$76 -> 0 | H36: ='Summary of Benefits'!K28*'Summary of Benefits'!$D$76 -> 0 | I36: ='Summary of Benefits'!L28*'Summary of Benefits'!$D$76 -> 0 | J36: ='Summary of Benefits'!M28*'Summary of Benefits'!$D$76 -> 0 | K36: ='Summary of Benefits'!N28*'Summary of Benefits'!$D$76 -> 0 | L36: ='Summary of Benefits'!O28*'Summary of Benefits'!$D$76 -> 0 | ... AP36: ='Summary of Benefits'!AS28*'Summary of Benefits'!$D$76 -> 371844.37
B37: Reduction in PDO accidents per year - Rail | D37: =SUM(E37:AP37) -> 127634.38 | E37: ='Summary of Benefits'!H41*'Summary of Benefits'!$D$101 -> 0 | F37: ='Summary of Benefits'!I41*'Summary of Benefits'!$D$101 -> 0 | G37: ='Summary of Benefits'!J41*'Summary of Benefits'!$D$101 -> 0 | H37: ='Summary of Benefits'!K41*'Summary of Benefits'!$D$101 -> 0 | I37: ='Summary of Benefits'!L41*'Summary of Benefits'!$D$101 -> 0 | J37: ='Summary of Benefits'!M41*'Summary of Benefits'!$D$101 -> 0 | K37: ='Summary of Benefits'!N41*'Summary of Benefits'!$D$101 -> 0 | L37: ='Summary of Benefits'!O41*'Summary of Benefits'!$D$101 -> 0 | ... AP37: ='Summary of Benefits'!AS41*'Summary of Benefits'!$D$101 -> 5111.3333
C38: Present Value at 7% Discount Rate | D38: =SUM(E38:AP38) -> 2724481.8 | E38: =(E36+E37)/((1+'BCA Summary'!$D$3)^(E$13-'BCA Summary'!$C$37)) -> 0 | F38: =(F36+F37)/((1+'BCA Summary'!$D$3)^(F$13-'BCA Summary'!$C$37)) -> 0 | G38: =(G36+G37)/((1+'BCA Summary'!$D$3)^(G$13-'BCA Summary'!$C$37)) -> 0 | H38: =(H36+H37)/((1+'BCA Summary'!$D$3)^(H$13-'BCA Summary'!$C$37)) -> 0 | I38: =(I36+I37)/((1+'BCA Summary'!$D$3)^(I$13-'BCA Summary'!$C$37)) -> 0 | J38: =(J36+J37)/((1+'BCA Summary'!$D$3)^(J$13-'BCA Summary'!$C$37)) -> 0 | K38: =(K36+K37)/((1+'BCA Summary'!$D$3)^(K$13-'BCA Summary'!$C$37)) -> 0 | L38: =(L36+L37)/((1+'BCA Summary'!$D$3)^(L$13-'BCA Summary'!$C$37)) -> 0 | ... AP38: =(AP36+AP37)/((1+'BCA Summary'!$D$3)^(AP$13-'BCA Summary'!$C$37)) -> 46279.985
D39: =D33+D35+D37 -> 1.1923241e+08 | Q39: =Q33+Q35+Q37 -> 5013301.8 | V39: =V33+V35+V37 -> 4721856.8 | AA39: =AA33+AA35+AA37 -> 4543100.3 | AF39: =AF33+AF35+AF37 -> 4463083.6 | AK39: =AK33+AK35+AK37 -> 4449899.3 | AP39: =AP33+AP35+AP37 -> 4488347.9
A40: Value of Travel Time Savings
B41: Travel Time Savings - Private Vehicle Travel | D41: =SUM(E41:AP41) -> 3.6218289e+08 | E41: ='Summary of Benefits'!H52*'Summary of Benefits'!$D$118*'Summary of Benefits'!$D$109 -> 0 | F41: ='Summary of Benefits'!I52*'Summary of Benefits'!$D$118*'Summary of Benefits'!$D$109 -> 0 | G41: ='Summary of Benefits'!J52*'Summary of Benefits'!$D$118*'Summary of Benefits'!$D$109 -> 0 | H41: ='Summary of Benefits'!K52*'Summary of Benefits'!$D$118*'Summary of Benefits'!$D$109 -> 0 | I41: ='Summary of Benefits'!L52*'Summary of Benefits'!$D$118*'Summary of Benefits'!$D$109 -> 0 | J41: ='Summary of Benefits'!M52*'Summary of Benefits'!$D$118*'Summary of Benefits'!$D$109 -> 0 | K41: ='Summary of Benefits'!N52*'Summary of Benefits'!$D$118*'Summary of Benefits'!$D$109 -> 0 | L41: ='Summary of Benefits'!O52*'Summary of Benefits'!$D$118*'Summary of Benefits'!$D$109 -> 0 | ... AP41: ='Summary of Benefits'!AS52*'Summary of Benefits'!$D$118*'Summary of Benefits'!$D$109 -> 18342304
C42: Present Value at 7% Discount Rate | D42: =SUM(E42:AP42) -> 1.0656423e+08 | E42: =(E41)/((1+'BCA Summary'!$D$3)^(E$13-'BCA Summary'!$C$37)) -> 0 | F42: =(F41)/((1+'BCA Summary'!$D$3)^(F$13-'BCA Summary'!$C$37)) -> 0 | G42: =(G41)/((1+'BCA Summary'!$D$3)^(G$13-'BCA Summary'!$C$37)) -> 0 | H42: =(H41)/((1+'BCA Summary'!$D$3)^(H$13-'BCA Summary'!$C$37)) -> 0 | I42: =(I41)/((1+'BCA Summary'!$D$3)^(I$13-'BCA Summary'!$C$37)) -> 0 | J42: =(J41)/((1+'BCA Summary'!$D$3)^(J$13-'BCA Summary'!$C$37)) -> 0 | K42: =(K41)/((1+'BCA Summary'!$D$3)^(K$13-'BCA Summary'!$C$37)) -> 0 | L42: =(L41)/((1+'BCA Summary'!$D$3)^(L$13-'BCA Summary'!$C$37)) -> 0 | ... AP42: =(AP41)/((1+'BCA Summary'!$D$3)^(AP$13-'BCA Summary'!$C$37)) -> 2251939.9
B43: Travel Time Savings - Commercial Vehicle Travel | D43: =SUM(E43:AP43) -> 20543387 | E43: ='Summary of Benefits'!H47*'Summary of Benefits'!$D$113 -> 0 | F43: ='Summary of Benefits'!I47*'Summary of Benefits'!$D$113 -> 0 | G43: ='Summary of Benefits'!J47*'Summary of Benefits'!$D$113 -> 0 | H43: ='Summary of Benefits'!K47*'Summary of Benefits'!$D$113 -> 0 | I43: ='Summary of Benefits'!L47*'Summary of Benefits'!$D$113 -> 0 | J43: ='Summary of Benefits'!M47*'Summary of Benefits'!$D$113 -> 0 | K43: ='Summary of Benefits'!N47*'Summary of Benefits'!$D$113 -> 0 | L43: ='Summary of Benefits'!O47*'Summary of Benefits'!$D$113 -> 0 | ... AP43: ='Summary of Benefits'!AS47*'Summary of Benefits'!$D$113 -> 1198561.2
C44: Present Value at 7% Discount Rate | D44: =SUM(E44:AP44) -> 5752444.1 | E44: =(E43)/((1+'BCA Summary'!$D$3)^(E$13-'BCA Summary'!$C$37)) -> 0 | F44: =(F43)/((1+'BCA Summary'!$D$3)^(F$13-'BCA Summary'!$C$37)) -> 0 | G44: =(G43)/((1+'BCA Summary'!$D$3)^(G$13-'BCA Summary'!$C$37)) -> 0 | H44: =(H43)/((1+'BCA Summary'!$D$3)^(H$13-'BCA Summary'!$C$37)) -> 0 | I44: =(I43)/((1+'BCA Summary'!$D$3)^(I$13-'BCA Summary'!$C$37)) -> 0 | J44: =(J43)/((1+'BCA Summary'!$D$3)^(J$13-'BCA Summary'!$C$37)) -> 0 | K44: =(K43)/((1+'BCA Summary'!$D$3)^(K$13-'BCA Summary'!$C$37)) -> 0 | L44: =(L43)/((1+'BCA Summary'!$D$3)^(L$13-'BCA Summary'!$C$37)) -> 0 | ... AP44: =(AP43)/((1+'BCA Summary'!$D$3)^(AP$13-'BCA Summary'!$C$37)) -> 147150.97
A45: Emissions Reductions
B46: Air Quality (reduced tons of NOx per year) | D46: =SUM(E46:AP46) -> 131096.53 | E46: 0 | F46: 0 | G46: 0 | H46: ='Summary of Benefits'!K60*'Summary of Benefits'!D127 -> 0 | I46: ='Summary of Benefits'!L60*'Summary of Benefits'!E127 -> 0 | J46: ='Summary of Benefits'!M60*'Summary of Benefits'!F127 -> 0 | K46: ='Summary of Benefits'!N60*'Summary of Benefits'!G127 -> 0 | L46: ='Summary of Benefits'!O60*'Summary of Benefits'!H127 -> 0 | M46: ='Summary of Benefits'!P60*'Summary of Benefits'!I127 -> 0 | N46: ='Summary of Benefits'!Q60*'Summary of Benefits'!J127 -> 0 | O46: ='Summary of Benefits'!R60*'Summary of Benefits'!K127 -> 0 | ... AP46: ='Summary of Benefits'!AS60*'Summary of Benefits'!AL127 -> 0
C47: Present Value at 7% Discount Rate | D47: =SUM(E47:AP47) -> 39228.447 | E47: 0 | F47: 0 | G47: 0 | H47: =(H46)/((1+'BCA Summary'!$D$3)^(H$13-'BCA Summary'!$C$37)) -> 0 | I47: =(I46)/((1+'BCA Summary'!$D$3)^(I$13-'BCA Summary'!$C$37)) -> 0 | J47: =(J46)/((1+'BCA Summary'!$D$3)^(J$13-'BCA Summary'!$C$37)) -> 0 | K47: =(K46)/((1+'BCA Summary'!$D$3)^(K$13-'BCA Summary'!$C$37)) -> 0 | L47: =(L46)/((1+'BCA Summary'!$D$3)^(L$13-'BCA Summary'!$C$37)) -> 0 | M47: =(M46)/((1+'BCA Summary'!$D$3)^(M$13-'BCA Summary'!$C$37)) -> 0 | N47: =(N46)/((1+'BCA Summary'!$D$3)^(N$13-'BCA Summary'!$C$37)) -> 0 | O47: =(O46)/((1+'BCA Summary'!$D$3)^(O$13-'BCA Summary'!$C$37)) -> 0 | ... AP47: =(AP46)/((1+'BCA Summary'!$D$3)^(AP$13-'BCA Summary'!$C$37)) -> 0
...

Sheet Summary of Benefits
A1: Transportation Benefits
A2: ='BCA Summary'!A2 -> US 85/120th Avenue Grade-Separation and Interchange Project
E4: 2015 | F4: 2016 | G4: 2017 | H4: 2018 | I4: 2019 | J4: 2020 | K4: 2021 | L4: 2022 | M4: 2023 | N4: 2024 | O4: 2025 | P4: 2026 | Q4: 2027 | R4: 2028 | S4: 2029 | T4: 2030 | U4: 2031 | V4: 2032 | W4: 2033 | X4: 2034 | Y4: 2035 | Z4: 2036 | AA4: 2037 | AB4: 2038 | AC4: 2039 | AD4: 2040 | AE4: 2041 | AF4: 2042 | AG4: 2043 | AH4: 2044 | AI4: 2045 | AJ4: 2046 | AK4: 2047 | AL4: 2048 | AM4: 2049 | AN4: 2050 | AO4: 2051 | AP4: 2052 | AQ4: 2053 | AR4: 2054 | AS4: 2055
A5: Operating & Maintenance Expenditures
A6: Avoided Maintenance Costs
A7: ="BASELINE (No "&'BCA Summary'!E1&") total annual roadway maintenance costs" -> BASELINE (No BUILD Grant) total annual roadway maintenance costs | D7: =SUM(E7:AR7) -> 13335400 | E7: ='Operations & Maintenance'!D35 -> 30635 | F7: ='Operations & Maintenance'!E35 -> 30635 | G7: ='Operations & Maintenance'!F35 -> 30635 | H7: ='Operations & Maintenance'!G35 -> 30635 | I7: ='Operations & Maintenance'!H35 -> 30635 | J7: ='Operations & Maintenance'!I35 -> 30635 | K7: ='Operations & Maintenance'!J35 -> 30635 | L7: ='Operations & Maintenance'!K35 -> 3058135 | ... AS7: ='Operations & Maintenance'!AR35 -> 30635
A8: ="PREFERRED (With "&'BCA Summary'!E1&") total annual roadway maintenance costs" -> PREFERRED (With BUILD Grant) total annual roadway maintenance costs | D8: =SUM(E8:AR8) -> 14783150 | E8: ='Operations & Maintenance'!D36 -> 30635 | F8: ='Operations & Maintenance'!E36 -> 30635 | G8: ='Operations & Maintenance'!F36 -> 30635 | H8: ='Operations & Maintenance'!G36 -> 30635 | I8: ='Operations & Maintenance'!H36 -> 30635 | J8: ='Operations & Maintenance'!I36 -> 30635 | K8: ='Operations & Maintenance'!J36 -> 30635 | L8: ='Operations & Maintenance'!K36 -> 3058135 | ... AS8: ='Operations & Maintenance'!AR36 -> 113885
A9: DIFFERENCE | D9: =SUM(E9:AR9) -> -1447750 | E9: =E7-E8 -> 0 | F9: =F7-F8 -> 0 | G9: =G7-G8 -> 0 | H9: =H7-H8 -> 0 | I9: =I7-I8 -> 0 | J9: =J7-J8 -> 0 | K9: =K7-K8 -> 0 | L9: =L7-L8 -> 0 | ... AS9: =AS7-AS8 -> -83250
A11: Train Operating and Social Costs
A12: Train Operating Avoided Idling
A13: ="BASELINE (No "&'BCA Summary'!$E$1&") total annual avoided train idling, hrs" -> BASELINE (No BUILD Grant) total annual avoided train idling, hrs | D13: =SUM(E13:AR13) -> 21773.503 | E13: ='Train Operating Costs'!E17 -> 544.33758 | F13: ='Train Operating Costs'!F17 -> 544.33758 | G13: ='Train Operating Costs'!G17 -> 544.33758 | H13: ='Train Operating Costs'!H17 -> 544.33758 | I13: ='Train Operating Costs'!I17 -> 544.33758 | J13: ='Train Operating Costs'!J17 -> 544.33758 | K13: ='Train Operating Costs'!K17 -> 544.33758 | L13: ='Train Operating Costs'!L17 -> 544.33758 | ... AS13: ='Train Operating Costs'!AS17 -> 544.33758
A14: ="PREFERRED (No "&'BCA Summary'!$E$1&") total annual avoided train idling, hrs" -> PREFERRED (No BUILD Grant) total annual avoided train idling, hrs | D14: =SUM(E14:AR14) -> 16123.586 | E14: ='Train Operating Costs'!E18 -> 544.33758 | F14: ='Train Operating Costs'!F18 -> 544.33758 | G14: ='Train Operating Costs'!G18 -> 544.33758 | H14: ='Train Operating Costs'!H18 -> 544.33758 | I14: ='Train Operating Costs'!I18 -> 544.33758 | J14: ='Train Operating Costs'!J18 -> 544.33758 | K14: ='Train Operating Costs'!K18 -> 544.33758 | L14: ='Train Operating Costs'!L18 -> 544.33758 | ... AS14: ='Train Operating Costs'!AS18 -> 318.34091
A15: DIFFERENCE | D15: =SUM(E15:AR15) -> 5649.9169 | E15: ='Train Operating Costs'!E19 -> 0 | F15: ='Train Operating Costs'!F19 -> 0 | G15: ='Train Operating Costs'!G19 -> 0 | H15: ='Train Operating Costs'!H19 -> 0 | I15: ='Train Operating Costs'!I19 -> 0 | J15: ='Train Operating Costs'!J19 -> 0 | K15: ='Train Operating Costs'!K19 -> 0 | L15: ='Train Operating Costs'!L19 -> 0 | ... AS15: ='Train Operating Costs'!AS19 -> 225.99667
A17: Safety - Vehicles
A18: ="BASELINE (No "&'BCA Summary'!$E$1&") Fatalities" -> BASELINE (No BUILD Grant) Fatalities | D18: =SUM(E18:AS18) -> 0 | E18: ='Safety - Veh'!E39 -> 0 | F18: ='Safety - Veh'!F39 -> 0 | G18: ='Safety - Veh'!G39 -> 0 | H18: ='Safety - Veh'!H39 -> 0 | I18: ='Safety - Veh'!I39 -> 0 | J18: ='Safety - Veh'!J39 -> 0 | K18: ='Safety - Veh'!K39 -> 0 | L18: ='Safety - Veh'!L39 -> 0 | ... AS18: ='Safety - Veh'!AS39 -> 0
A19: ="PREFERRED (With "&'BCA Summary'!$E$1&") Fatalities" -> PREFERRED (With BUILD Grant) Fatalities | D19: =SUM(E19:AS19) -> 0 | E19: ='Safety - Veh'!E40 -> 0 | F19: ='Safety - Veh'!F40 -> 0 | G19: ='Safety - Veh'!G40 -> 0 | H19: ='Safety - Veh'!H40 -> 0 | I19: ='Safety - Veh'!I40 -> 0 | J19: ='Safety - Veh'!J40 -> 0 | K19: ='Safety - Veh'!K40 -> 0 | L19: ='Safety - Veh'!L40 -> 0 | ... AS19: ='Safety - Veh'!AS40 -> 0
A20: DIFFERENCE (Fatalities) | D20: =SUM(E20:AS20) -> 0 | E20: =E18-E19 -> 0 | F20: =F18-F19 -> 0 | G20: =G18-G19 -> 0 | H20: =H18-H19 -> 0 | I20: =I18-I19 -> 0 | J20: =J18-J19 -> 0 | K20: =K18-K19 -> 0 | L20: =L18-L19 -> 0 | ... AS20: =AS18-AS19 -> 0
A22: ="BASELINE (No "&'BCA Summary'!$E$1&") Injuries" -> BASELINE (No BUILD Grant) Injuries | D22: =SUM(E22:AS22) -> 718.68942 | E22: ='Safety - Veh'!E43 -> 12.476712 | F22: ='Safety - Veh'!F43 -> 12.200107 | G22: ='Safety - Veh'!G43 -> 12.476712 | H22: ='Safety - Veh'!H43 -> 12.753318 | I22: ='Safety - Veh'!I43 -> 13.49462 | J22: ='Safety - Veh'!J43 -> 13.749097 | K22: ='Safety - Veh'!K43 -> 14.003574 | L22: ='Safety - Veh'!L43 -> 14.258051 | ... AS22: ='Safety - Veh'!AS43 -> 22.655789
A23: ="PREFERRED (With "&'BCA Summary'!$E$1&") Injuries" -> PREFERRED (With BUILD Grant) Injuries | D23: =SUM(E23:AS23) -> 336.79795 | E23: ='Safety - Veh'!E44 -> 12.476712 | F23: ='Safety - Veh'!F44 -> 12.200107 | G23: ='Safety - Veh'!G44 -> 12.476712 | H23: ='Safety - Veh'!H44 -> 12.753318 | I23: ='Safety - Veh'!I44 -> 13.49462 | J23: ='Safety - Veh'!J44 -> 13.749097 | K23: ='Safety - Veh'!K44 -> 14.003574 | L23: ='Safety - Veh'!L44 -> 14.258051 | ... AS23: ='Safety - Veh'!AS44 -> 5.86624
A24: DIFFERENCE (Injuries) | D24: =SUM(E24:AS24) -> 381.89147 | E24: =E22-E23 -> 0 | F24: =F22-F23 -> 0 | G24: =G22-G23 -> 0 | H24: =H22-H23 -> 0 | I24: =I22-I23 -> 0 | J24: =J22-J23 -> 0 | K24: =K22-K23 -> 0 | L24: =L22-L23 -> 0 | ... AS24: =AS22-AS23 -> 16.789549
A26: ="BASELINE (No "&'BCA Summary'!$E$1&") Vehicles involved in PDO Crashes" -> BASELINE (No BUILD Grant) Vehicles involved in PDO Crashes | D26: =SUM(E26:AS26) -> 3003.6989 | E26: ='Safety - Veh'!E47 -> 53.854207 | F26: ='Safety - Veh'!F47 -> 52.791719 | G26: ='Safety - Veh'!G47 -> 53.854207 | H26: ='Safety - Veh'!H47 -> 54.916696 | I26: ='Safety - Veh'!I47 -> 57.764165 | J26: ='Safety - Veh'!J47 -> 58.741655 | K26: ='Safety - Veh'!K47 -> 59.719144 | L26: ='Safety - Veh'!L47 -> 60.696634 | ... AS26: ='Safety - Veh'!AS47 -> 92.953787
A27: ="PREFERRED (With "&'BCA Summary'!$E$1&") Vehicles involved in PDO Crashes" -> PREFERRED (With BUILD Grant) Vehicles involved in PDO Crashes | D27: =SUM(E27:AS27) -> 1437.1263 | E27: ='Safety - Veh'!E48 -> 53.854207 | F27: ='Safety - Veh'!F48 -> 52.791719 | G27: ='Safety - Veh'!G48 -> 53.854207 | H27: ='Safety - Veh'!H48 -> 54.916696 | I27: ='Safety - Veh'!I48 -> 57.764165 | J27: ='Safety - Veh'!J48 -> 58.741655 | K27: ='Safety - Veh'!K48 -> 59.719144 | L27: ='Safety - Veh'!L48 -> 60.696634 | ... AS27: ='Safety - Veh'!AS48 -> 25.101774
A28: DIFFERENCE (Vehicles involved in PDO Crashes) | D28: =SUM(E28:AS28) -> 1566.5727 | E28: =E26-E27 -> 0 | F28: =F26-F27 -> 0 | G28: =G26-G27 -> 0 | H28: =H26-H27 -> 0 | I28: =I26-I27 -> 0 | J28: =J26-J27 -> 0 | K28: =K26-K27 -> 0 | L28: =L26-L27 -> 0 | ... AS28: =AS26-AS27 -> 67.852013
A30: Safety - Rail
A31: ="BASELINE (No "&'BCA Summary'!$E$1&") Fatalities" -> BASELINE (No BUILD Grant) Fatalities | D31: =SUM(E31:AS31) -> 0.33863132 | E31: ='Safety - Railroad'!F32 -> 0.0075540333 | F31: ='Safety - Railroad'!G32 -> 0.0075540333 | G31: ='Safety - Railroad'!H32 -> 0.0076970529 | H31: ='Safety - Railroad'!I32 -> 0.0077620618 | I31: ='Safety - Railroad'!J32 -> 0.0077620618 | J31: ='Safety - Railroad'!K32 -> 0.0078270707 | K31: ='Safety - Railroad'!L32 -> 0.0078270707 | L31: ='Safety - Railroad'!M32 -> 0.0078790778 | ... AS31: ='Safety - Railroad'!AT32 -> 0.0088412094
A32: ="PREFERRED (With "&'BCA Summary'!$E$1&") Fatalities" -> PREFERRED (With BUILD Grant) Fatalities | D32: =SUM(E32:AS32) -> 0.11787412 | E32: ='Safety - Railroad'!F33 -> 0.0075540333 | F32: ='Safety - Railroad'!G33 -> 0.0075540333 | G32: ='Safety - Railroad'!H33 -> 0.0076970529 | H32: ='Safety - Railroad'!I33 -> 0.0077620618 | I32: ='Safety - Railroad'!J33 -> 0.0077620618 | J32: ='Safety - Railroad'!K33 -> 0.0078270707 | K32: ='Safety - Railroad'!L33 -> 0.0078270707 | L32: ='Safety - Railroad'!M33 -> 0.0078790778 | ... AS32: ='Safety - Railroad'!AT33 -> 0
A33: DIFFERENCE (Fatalities) | D33: =SUM(E33:AS33) -> 0.2207572 | E33: =E31-E32 -> 0 | F33: =F31-F32 -> 0 | G33: =G31-G32 -> 0 | H33: =H31-H32 -> 0 | I33: =I31-I32 -> 0 | J33: =J31-J32 -> 0 | K33: =K31-K32 -> 0 | L33: =L31-L32 -> 0 | ... AS33: =AS31-AS32 -> 0.0088412094
A35: ="BASELINE (No "&'BCA Summary'!$E$1&") Injuries" -> BASELINE (No BUILD Grant) Injuries | D35: =SUM(E35:AS35) -> 0.77873897 | E35: ='Safety - Railroad'!F36 -> 0.017370063 | F35: ='Safety - Railroad'!G36 -> 0.017370063 | G35: ='Safety - Railroad'!H36 -> 0.017691961 | H35: ='Safety - Railroad'!I36 -> 0.017844516 | I35: ='Safety - Railroad'!J36 -> 0.017844516 | J35: ='Safety - Railroad'!K36 -> 0.01799707 | K35: ='Safety - Railroad'!L36 -> 0.01799707 | L35: ='Safety - Railroad'!M36 -> 0.018119114 | ... AS35: ='Safety - Railroad'!AT36 -> 0.020335754
A36: ="PREFERRED (With "&'BCA Summary'!$E$1&") Injuries" -> PREFERRED (With BUILD Grant) Injuries | D36: =SUM(E36:AS36) -> 0.27104072 | E36: ='Safety - Railroad'!F37 -> 0.017370063 | F36: ='Safety - Railroad'!G37 -> 0.017370063 | G36: ='Safety - Railroad'!H37 -> 0.017691961 | H36: ='Safety - Railroad'!I37 -> 0.017844516 | I36: ='Safety - Railroad'!J37 -> 0.017844516 | J36: ='Safety - Railroad'!K37 -> 0.01799707 | K36: ='Safety - Railroad'!L37 -> 0.01799707 | L36: ='Safety - Railroad'!M37 -> 0.018119114 | ... AS36: ='Safety - Railroad'!AT37 -> 0
A37: DIFFERENCE (Injuries) | D37: =SUM(E37:AS37) -> 0.50769825 | E37: =E35-E36 -> 0 | F37: =F35-F36 -> 0 | G37: =G35-G36 -> 0 | H37: =H35-H36 -> 0 | I37: =I35-I36 -> 0 | J37: =J35-J36 -> 0 | K37: =K35-K36 -> 0 | L37: =L35-L36 -> 0 | ... AS37: =AS35-AS36 -> 0.020335754
A39: ="BASELINE (No "&'BCA Summary'!$E$1&") PDO Crash Vehicles" -> BASELINE (No BUILD Grant) PDO Crash Vehicles | D39: =SUM(E39:AS39) -> 1.4871297 | E39: ='Safety - Railroad'!F40 -> 0.033175904 | F39: ='Safety - Railroad'!G40 -> 0.033175904 | G39: ='Safety - Railroad'!H40 -> 0.033810986 | H39: ='Safety - Railroad'!I40 -> 0.034093423 | I39: ='Safety - Railroad'!J40 -> 0.034093423 | J39: ='Safety - Railroad'!K40 -> 0.034375859 | K39: ='Safety - Railroad'!L40 -> 0.034375859 | L39: ='Safety - Railroad'!M40 -> 0.034601809 | ... AS39: ='Safety - Railroad'!AT40 -> 0.038823036
A40: ="PREFERRED (With "&'BCA Summary'!$E$1&") PDO Crash Vehicles" -> PREFERRED (With BUILD Grant) PDO Crash Vehicles | D40: =SUM(E40:AS40) -> 0.51768515 | E40: ='Safety - Railroad'!F41 -> 0.033175904 | F40: ='Safety - Railroad'!G41 -> 0.033175904 | G40: ='Safety - Railroad'!H41 -> 0.033810986 | H40: ='Safety - Railroad'!I41 -> 0.034093423 | I40: ='Safety - Railroad'!J41 -> 0.034093423 | J40: ='Safety - Railroad'!K41 -> 0.034375859 | K40: ='Safety - Railroad'!L41 -> 0.034375859 | L40: ='Safety - Railroad'!M41 -> 0.034601809 | ... AS40: ='Safety - Railroad'!AT41 -> 0
A41: DIFFERENCE (PDO Crashes) | D41: =SUM(E41:AS41) -> 0.96944456 | E41: =E39-E40 -> 0 | F41: =F39-F40 -> 0 | G41: =G39-G40 -> 0 | H41: =H39-H40 -> 0 | I41: =I39-I40 -> 0 | J41: =J39-J40 -> 0 | K41: =K39-K40 -> 0 | L41: =L39-L40 -> 0 | ... AS41: =AS39-AS40 -> 0.038823036
A43: Travel Time Savings
A44: Regional Annual Truck Travel Time (vehicle-hours)
A45: ="BASELINE (No "&'BCA Summary'!$E$1&") total annual truck stopped delay, hrs" -> BASELINE (No BUILD Grant) total annual truck stopped delay, hrs | D45: =SUM(E45:AS45) -> 819513.32 | E45: ='Travel Time Savings'!E9+'Travel Time Savings'!E28 -> 6660.5262 | F45: ='Travel Time Savings'!F9+'Travel Time Savings'!F28 -> 7104.9447 | G45: ='Travel Time Savings'!G9+'Travel Time Savings'!G28 -> 7566.4373 | H45: ='Travel Time Savings'!H9+'Travel Time Savings'!H28 -> 8045.0038 | I45: ='Travel Time Savings'!I9+'Travel Time Savings'!I28 -> 8540.6442 | J45: ='Travel Time Savings'!J9+'Travel Time Savings'!J28 -> 9053.3587 | K45: ='Travel Time Savings'!K9+'Travel Time Savings'!K28 -> 9583.1471 | L45: ='Travel Time Savings'!L9+'Travel Time Savings'!L28 -> 10130.009 | ... AS45: ='Travel Time Savings'!AS9+'Travel Time Savings'!AS28 -> 37754.965
A46: ="PREFERRED (With "&'BCA Summary'!$E$1&") total annual truck stopped delay, hrs" -> PREFERRED (With BUILD Grant) total annual truck stopped delay, hrs | D46: =SUM(E46:AS46) -> 267271.73 | E46: ='Travel Time Savings'!E10+'Travel Time Savings'!E29 -> 6660.5262 | F46: ='Travel Time Savings'!F10+'Travel Time Savings'!F29 -> 7104.9447 | G46: ='Travel Time Savings'!G10+'Travel Time Savings'!G29 -> 7566.4373 | H46: ='Travel Time Savings'!H10+'Travel Time Savings'!H29 -> 8045.0038 | I46: ='Travel Time Savings'!I10+'Travel Time Savings'!I29 -> 8540.6442 | J46: ='Travel Time Savings'!J10+'Travel Time Savings'!J29 -> 9053.3587 | K46: ='Travel Time Savings'!K10+'Travel Time Savings'!K29 -> 9583.1471 | L46: ='Travel Time Savings'!L10+'Travel Time Savings'!L29 -> 10130.009 | ... AS46: ='Travel Time Savings'!AS10+'Travel Time Savings'!AS29 -> 5535.5771
A47: DIFFERENCE | D47: =SUM(E47:AS47) -> 552241.59 | E47: =E45-E46 -> 0 | F47: =F45-F46 -> 0 | G47: =G45-G46 -> 0 | H47: =H45-H46 -> 0 | I47: =I45-I46 -> 0 | J47: =J45-J46 -> 0 | K47: =K45-K46 -> 0 | L47: =L45-L46 -> 0 | ... AS47: =AS45-AS46 -> 32219.388
A49: Regional Annual Passenger Vehicle Travel Time (vehicle-hours)
A50: ="BASELINE (No "&'BCA Summary'!$E$1&") total annual passenger vehicle stopped delay, hrs" -> BASELINE (No BUILD Grant) total annual passenger vehicle stopped delay, hrs | D50: =SUM(E50:AS50) -> 17646962 | E50: ='Travel Time Savings'!E13+'Travel Time Savings'!E32 -> 158578.03 | F50: ='Travel Time Savings'!F13+'Travel Time Savings'!F32 -> 172391.78 | G50: ='Travel Time Savings'!G13+'Travel Time Savings'!G32 -> 186188.45 | H50: ='Travel Time Savings'!H13+'Travel Time Savings'!H32 -> 199968.05 | I50: ='Travel Time Savings'!I13+'Travel Time Savings'!I32 -> 213730.57 | J50: ='Travel Time Savings'!J13+'Travel Time Savings'!J32 -> 227476.02 | K50: ='Travel Time Savings'!K13+'Travel Time Savings'!K32 -> 241204.4 | L50: ='Travel Time Savings'!L13+'Travel Time Savings'!L32 -> 254915.7 | ... AS50: ='Travel Time Savings'!AS13+'Travel Time Savings'!AS32 -> 697810.14
...

Sheet Timeline & Costs
A1: Timeline & Project Costs
A2: ='BCA Summary'!A2 -> US 85/120th Avenue Grade-Separation and Interchange Project
A4: Design & Construction Schedule
E6: 2003 | F6: 2011 | G6: 2017 | H6: 2018 | I6: 2019 | J6: 2020 | K6: 2021 | L6: 2022 | M6: 2023 | N6: 2024 | O6: 2025 | P6: 2026 | Q6: 2027 | R6: 2028 | S6: 2029 | T6: 2030 | U6: 2031 | V6: 2032 | W6: 2033 | X6: 2034 | Y6: 2035 | Z6: 2036 | AA6: 2037 | AB6: 2038 | AC6: 2039 | AD6: 2040 | AE6: 2041 | AF6: 2042 | AG6: 2043 | AH6: 2044 | AI6: 2045 | AJ6: 2046 | AK6: 2047 | AL6: 2048 | AM6: 2049 | AN6: 2050 | AO6: 2051 | AP6: 2052 | AQ6: 2053 | AR6: 2054 | AS6: 2055
A7: ="BASELINE (No "&'BCA Summary'!E1&")" -> BASELINE (No BUILD Grant)
B8: Benefits | E8: No | F8: No | G8: No | H8: No | I8: No | J8: No | K8: No | L8: No | M8: No | N8: No | O8: No | P8: No | Q8: No | R8: No | S8: No | T8: No | U8: No | V8: No | W8: No | X8: No | Y8: No | Z8: No | AA8: No | AB8: No | AC8: No | AD8: No | AE8: No | AF8: No | AG8: No | AH8: No | AI8: No | AJ8: No | AK8: No | AL8: No | AM8: No | AN8: No | AO8: No | AP8: No | AQ8: No | AR8: No | AS8: No
A10: ="PREFERRED (With "&'BCA Summary'!E1&")" -> PREFERRED (With BUILD Grant)
A11: ='BCA Summary'!A2 -> US 85/120th Avenue Grade-Separation and Interchange Project
B12: Activity | G12: NEPA/Design | I12: Design/ROW | J12: Design | K12: Design | L12: Design | M12: Design | Q12: Construction | T12: Benefits Begin
E13: ROW | L13: ROW | P13: ROW
G14: Conceptual Design | O14: Prelim. Engineering & NEPA
P15: Final Design & Construction Engineering
G16: NEPA
B17: Benefits | H17: No | I17: No | J17: No | K17: No | L17: No | M17: No | N17: No | O17: No | P17: No | Q17: No | R17: No | S17: No | T17: Yes | U17: Yes | V17: Yes | W17: Yes | X17: Yes | Y17: Yes | Z17: Yes | AA17: Yes | AB17: Yes | AC17: Yes | AD17: Yes | AE17: Yes | AF17: Yes | AG17: Yes | AH17: Yes | AI17: Yes | AJ17: Yes | AK17: Yes | AL17: Yes | AM17: Yes | AN17: Yes | AO17: Yes | AP17: Yes | AQ17: Yes | AR17: Yes | AS17: Yes
B18: Project Costs, 2022$ | D18: =SUM(E18:AF18) -> 1.5608584e+08 | H18: =SUM(E27:H27,E36:H36,E41:H41,E43:H43,E45:H45) -> 2757323.9 | I18: =SUM(I27,I36,I41,I43,I45) -> 1142627.2 | J18: =SUM(J27,J36,J41,J43,J45) -> 173499.62 | K18: =SUM(K27,K36,K41,K43,K45) -> 0 | L18: =SUM(L27,L36,L41,L43,L45) -> 2385000 | M18: =SUM(M27,M36,M41,M43,M45) -> 4080000 | N18: =SUM(N27,N36,N41,N43,N45) -> 0 | O18: =SUM(O27,O36,O41,O43,O45) -> 587760 | P18: =SUM(P27,P36,P41,P43,P45) -> 4706414 | ... T18: =SUM(T27,T36,T41,T43,T45) -> 0
H19: *ALL COSTS INCURRED PRIOR TO 2018 HAVE BEEN INCLUDED IN 2018 TOTALS
A21: Projected Costs - Please see Appendix A for detailed proposed cost estimates
E22: 2003 | F22: 2011 | G22: 2017 | H22: 2018 | I22: 2019 | J22: 2020 | K22: 2021 | L22: 2022 | M22: 2023 | N22: 2024 | O22: 2025 | P22: 2026 | Q22: 2027 | R22: 2028 | S22: 2029 | T22: 2030
A23: Multiplier to Adjust to Real 2024$ | E23: =L25*L23 -> 1.6218 | F23: 1.37 | G23: 1.25 | H23: 1.23 | I23: 1.21 | J23: 1.19 | K23: 1.14 | L23: 1.06 | M23: 1.02 | N23: 1 | O23: 1 | P23: 1 | Q23: 1 | R23: 1 | S23: 1 | T23: 1
B24: Source: Bureau of Economic Analysis, National Income and Product Accounts, Table 1.1.9, “Implicit Price Deflators for Gross Domestic Product” (October 2023) used to calculate 2003$ to 2022$, and then increased to 2024$ using September 2025 multipliers
B25: Source: Bureau of Economic Analysis, National Income and Product Accounts, Table 1.1.9, “Implicit Price Deflators for Gross Domestic Product” (September 2025) | J25: 2003$ to 2022$ | L25: 1.53
A26: Construction | Q26: 5000000 | R26: =(E49-Q26)/2 -> 47647700 | S26: =R26 -> 47647700
C27: TOTAL CONSTRUCTION EXPENDITURES, BY YEAR (2024$) | E27: =SUM(E26)*E23 -> 0 | F27: =SUM(F26)*F23 -> 0 | G27: =SUM(G26)*G23 -> 0 | H27: =SUM(H26)*H23 -> 0 | I27: =SUM(I26)*I23 -> 0 | J27: =SUM(J26)*J23 -> 0 | K27: =SUM(K26)*K23 -> 0 | L27: =SUM(L26)*L23 -> 0 | ... S27: =SUM(S26)*S23 -> 47647700
A28: ROW Acquisitions
B29: 2003 Previous ROW Acquisition, 2003$ | E29: 494270
B30: 2011 Previous ROW Acquisition, 2011$ | F30: 432153
B31: AP-389 - Hanson - 11001 E. 120th Ave., 2022$ | L31: 1210000
B32: AP-412 - Hillje - 12265 Highway 85, 2022$ | L32: 1040000
B33: AP-385 - Thoms - 11010 E. 120th Ave. | M33: 4000000
B34: Future ROW Acquisitions (CRISI) | P34: 1000000 | Q34: 4000000
B35: Future ROW Acquisitions | Q35: 14000000 | R35: 14000000
C36: TOTAL ROW EXPENDITURES, BY YEAR (2024$) | E36: =SUM(E29:E35)*E23 -> 801607.09 | F36: =SUM(F29:F35)*F23 -> 592049.61 | G36: =SUM(G29:G35)*G23 -> 0 | H36: =SUM(H29:H35)*H23 -> 0 | I36: =SUM(I29:I35)*I23 -> 0 | J36: =SUM(J29:J35)*J23 -> 0 | K36: =SUM(K29:K35)*K23 -> 0 | L36: =SUM(L29:L35)*L23 -> 2385000 | ... S36: =SUM(S29:S35)*S23 -> 0
A37: Conceptual Design & Preliminary Engineering
B38: Consultant Design & NEPA | G38: 104400 | H38: 320480 | I38: 710720 | O38: 587760 | P38: =3321034-O38 -> 2733274
B39: UPRR Design | H39: 36000 | P39: 36000
B40: CDOT Design | G40: 63000 | H40: 63000 | I40: 126000
C41: TOTAL CON. DESIGN / PRELIM ENG EXPENDITURES, BY YEAR (2024$) | E41: =SUM(E38:E40)*E23 -> 0 | F41: =SUM(F38:F40)*F23 -> 0 | G41: =SUM(G38:G40)*G23 -> 209250 | H41: =SUM(H38:H40)*H23 -> 515960.4 | I41: =SUM(I38:I40)*I23 -> 1012431.2 | J41: =SUM(J38:J40)*J23 -> 0 | K41: =SUM(K38:K40)*K23 -> 0 | L41: =SUM(L38:L40)*L23 -> 0 | ... S41: =SUM(S38:S40)*S23 -> 0
A42: Final Design & Construction Engineering | P42: =1874280/2 -> 937140 | Q42: =1874280/2+1000000 -> 1937140 | R42: =6020678/2 -> 3010339 | S42: =6020678/2 -> 3010339
C43: TOTAL FINAL DESIGN & CONST. ENG. EXPENDITURES, BY YEAR (2024$) | E43: =E42*E23 -> 0 | F43: =F42*F23 -> 0 | G43: =G42*G23 -> 0 | H43: =H42*H23 -> 0 | I43: =I42*I23 -> 0 | J43: =J42*J23 -> 0 | K43: =K42*K23 -> 0 | L43: =L42*L23 -> 0 | ... S43: =S42*S23 -> 3010339
A44: NEPA Project Costs | G44: 154400 | H44: 362160 | I44: 107600 | J44: 145798
...

Sheet Safety - Veh
A1: Safety - Vehicle
A2: ='BCA Summary'!A2 -> US 85/120th Avenue Grade-Separation and Interchange Project
E4: ='Summary of Benefits'!E4 -> 2015 | F4: ='Summary of Benefits'!F4 -> 2016 | G4: ='Summary of Benefits'!G4 -> 2017 | H4: ='Summary of Benefits'!H4 -> 2018 | I4: ='Summary of Benefits'!I4 -> 2019 | J4: ='Summary of Benefits'!J4 -> 2020 | K4: ='Summary of Benefits'!K4 -> 2021 | L4: ='Summary of Benefits'!L4 -> 2022 | ... AS4: ='Summary of Benefits'!AS4 -> 2055
A5: ='Timeline & Costs'!A11 -> US 85/120th Avenue Grade-Separation and Interchange Project
B6: ="Baseline (No "&'BCA Summary'!E1&") Benefits" -> Baseline (No BUILD Grant) Benefits | E6: ='Timeline & Costs'!E$8 -> No | F6: ='Timeline & Costs'!F$8 -> No | G6: ='Timeline & Costs'!G$8 -> No | H6: ='Timeline & Costs'!H$8 -> No | I6: ='Timeline & Costs'!I$8 -> No | J6: ='Timeline & Costs'!J$8 -> No | K6: ='Timeline & Costs'!K$8 -> No | L6: ='Timeline & Costs'!L$8 -> No | ... AS6: ='Timeline & Costs'!AS$8 -> No
B7: ="Preferred (With "&'BCA Summary'!E1&") Benefits" -> Preferred (With BUILD Grant) Benefits | E7: ='Timeline & Costs'!E17 -> 0 | F7: ='Timeline & Costs'!F17 -> 0 | G7: ='Timeline & Costs'!G17 -> 0 | H7: ='Timeline & Costs'!H17 -> No | I7: ='Timeline & Costs'!I17 -> No | J7: ='Timeline & Costs'!J17 -> No | K7: ='Timeline & Costs'!K17 -> No | L7: ='Timeline & Costs'!L17 -> No | ... AS7: ='Timeline & Costs'!AS17 -> Yes
A9: 120th Avenue Interchange
B10: ="BASELINE (No "&'BCA Summary'!$E$1&") total annual entering volume" -> BASELINE (No BUILD Grant) total annual entering volume | E10: =$G10+(($AD10-$G10)/($AD$4-$G$4))*(E$4-$G$4) -> 18793500 | F10: =$G10+(($AD10-$G10)/($AD$4-$G$4))*(F$4-$G$4) -> 19108500 | G10: =(N55+O55)*$E$52 -> 19423500 | H10: =$G10+(($AD10-$G10)/($AD$4-$G$4))*(H$4-$G$4) -> 19738500 | I10: =$G10+(($AD10-$G10)/($AD$4-$E$4))*(I$4-$E$4) -> 20582700 | J10: =$G10+(($AD10-$G10)/($AD$4-$E$4))*(J$4-$E$4) -> 20872500 | K10: =$G10+(($AD10-$G10)/($AD$4-$E$4))*(K$4-$E$4) -> 21162300 | L10: =$G10+(($AD10-$G10)/($AD$4-$E$4))*(L$4-$E$4) -> 21452100 | M10: =$G10+(($AD10-$G10)/($AD$4-$E$4))*(M$4-$E$4) -> 21741900 | N10: =$G10+(($AD10-$G10)/($AD$4-$E$4))*(N$4-$E$4) -> 22031700 | O10: =$G10+(($AD10-$G10)/($AD$4-$E$4))*(O$4-$E$4) -> 22321500 | P10: =$G10+(($AD10-$G10)/($AD$4-$E$4))*(P$4-$E$4) -> 22611300 | ... AC10: =$G10+(($AD10-$G10)/($AD$4-$E$4))*(AC$4-$E$4) -> 26378700 | AD10: =(G68+H68)*E52 -> 26668500 | AE10: =$G10+(($AD10-$G10)/($AD$4-$E$4))*(AE$4-$E$4) -> 26958300 | AF10: =$G10+(($AD10-$G10)/($AD$4-$E$4))*(AF$4-$E$4) -> 27248100 | AG10: =$G10+(($AD10-$G10)/($AD$4-$E$4))*(AG$4-$E$4) -> 27537900 | AH10: =$G10+(($AD10-$G10)/($AD$4-$E$4))*(AH$4-$E$4) -> 27827700 | AI10: =$G10+(($AD10-$G10)/($AD$4-$E$4))*(AI$4-$E$4) -> 28117500 | AJ10: =$G10+(($AD10-$G10)/($AD$4-$E$4))*(AJ$4-$E$4) -> 28407300 | AK10: =$G10+(($AD10-$G10)/($AD$4-$E$4))*(AK$4-$E$4) -> 28697100 | AL10: =$G10+(($AD10-$G10)/($AD$4-$E$4))*(AL$4-$E$4) -> 28986900 | ... AS10: =$G10+(($AD10-$G10)/($AD$4-$E$4))*(AS$4-$E$4) -> 31015500
B11: ="PREFERRED (With "&'BCA Summary'!$E$1&") total annual entering volume" -> PREFERRED (With BUILD Grant) total annual entering volume | E11: =$G11+(($AD11-$G11)/($AD$4-$G$4))*(E$4-$G$4) -> 6349500 | F11: =$G11+(($AD11-$G11)/($AD$4-$G$4))*(F$4-$G$4) -> 6607500 | G11: =(I68+J68)*E52 -> 6865500 | H11: =$G11+(($AD11-$G11)/($AD$4-$G$4))*(H$4-$G$4) -> 7123500 | I11: =$G11+(($AD11-$G11)/($AD$4-$G$4))*(I$4-$G$4) -> 7381500 | J11: =$G11+(($AD11-$G11)/($AD$4-$G$4))*(J$4-$G$4) -> 7639500 | K11: =$G11+(($AD11-$G11)/($AD$4-$G$4))*(K$4-$G$4) -> 7897500 | L11: =$G11+(($AD11-$G11)/($AD$4-$G$4))*(L$4-$G$4) -> 8155500 | M11: =$G11+(($AD11-$G11)/($AD$4-$G$4))*(M$4-$G$4) -> 8413500 | N11: =$G11+(($AD11-$G11)/($AD$4-$G$4))*(N$4-$G$4) -> 8671500 | O11: =$G11+(($AD11-$G11)/($AD$4-$G$4))*(O$4-$G$4) -> 8929500 | ... AC11: =$G11+(($AD11-$G11)/($AD$4-$G$4))*(AC$4-$G$4) -> 12541500 | AD11: =(K68+L68)*E52 -> 12799500 | AE11: =$G11+(($AD11-$G11)/($AD$4-$E$4))*(AE$4-$E$4) -> 13036860 | AF11: =$G11+(($AD11-$G11)/($AD$4-$E$4))*(AF$4-$E$4) -> 13274220 | AG11: =$G11+(($AD11-$G11)/($AD$4-$E$4))*(AG$4-$E$4) -> 13511580 | AH11: =$G11+(($AD11-$G11)/($AD$4-$E$4))*(AH$4-$E$4) -> 13748940 | AI11: =$G11+(($AD11-$G11)/($AD$4-$E$4))*(AI$4-$E$4) -> 13986300 | AJ11: =$G11+(($AD11-$G11)/($AD$4-$E$4))*(AJ$4-$E$4) -> 14223660 | AK11: =$G11+(($AD11-$G11)/($AD$4-$E$4))*(AK$4-$E$4) -> 14461020 | AL11: =$G11+(($AD11-$G11)/($AD$4-$E$4))*(AL$4-$E$4) -> 14698380 | ... AS11: =$G11+(($AD11-$G11)/($AD$4-$E$4))*(AS$4-$E$4) -> 16359900
A13: 124th Avenue Intersection
B14: ="BASELINE (No "&'BCA Summary'!$E$1&") total annual entering volume" -> BASELINE (No BUILD Grant) total annual entering volume | E14: =$G14+(($AD14-$G14)/($AD$4-$G$4))*(E$4-$G$4) -> 13450500 | F14: =$G14+(($AD14-$G14)/($AD$4-$G$4))*(F$4-$G$4) -> 13849500 | G14: =(N56+O56)*E52 -> 14248500 | H14: =$G14+(($AD14-$G14)/($AD$4-$G$4))*(H$4-$G$4) -> 14647500 | I14: =$G14+(($AD14-$G14)/($AD$4-$E$4))*(I$4-$E$4) -> 15716820 | J14: =$G14+(($AD14-$G14)/($AD$4-$E$4))*(J$4-$E$4) -> 16083900 | K14: =$G14+(($AD14-$G14)/($AD$4-$E$4))*(K$4-$E$4) -> 16450980 | L14: =$G14+(($AD14-$G14)/($AD$4-$E$4))*(L$4-$E$4) -> 16818060 | M14: =$G14+(($AD14-$G14)/($AD$4-$E$4))*(M$4-$E$4) -> 17185140 | N14: =$G14+(($AD14-$G14)/($AD$4-$E$4))*(N$4-$E$4) -> 17552220 | O14: =$G14+(($AD14-$G14)/($AD$4-$E$4))*(O$4-$E$4) -> 17919300 | P14: =$G14+(($AD14-$G14)/($AD$4-$E$4))*(P$4-$E$4) -> 18286380 | ... AC14: =$G14+(($AD14-$G14)/($AD$4-$E$4))*(AC$4-$E$4) -> 23058420 | AD14: =(Q68+R68)*E52 -> 23425500 | AE14: =$G14+(($AD14-$G14)/($AD$4-$E$4))*(AE$4-$E$4) -> 23792580 | AF14: =$G14+(($AD14-$G14)/($AD$4-$E$4))*(AF$4-$E$4) -> 24159660 | AG14: =$G14+(($AD14-$G14)/($AD$4-$E$4))*(AG$4-$E$4) -> 24526740 | AH14: =$G14+(($AD14-$G14)/($AD$4-$E$4))*(AH$4-$E$4) -> 24893820 | AI14: =$G14+(($AD14-$G14)/($AD$4-$E$4))*(AI$4-$E$4) -> 25260900 | AJ14: =$G14+(($AD14-$G14)/($AD$4-$E$4))*(AJ$4-$E$4) -> 25627980 | AK14: =$G14+(($AD14-$G14)/($AD$4-$E$4))*(AK$4-$E$4) -> 25995060 | AL14: =$G14+(($AD14-$G14)/($AD$4-$E$4))*(AL$4-$E$4) -> 26362140 | ... AS14: =$G14+(($AD14-$G14)/($AD$4-$E$4))*(AS$4-$E$4) -> 28931700
B15: ="PREFERRED (With "&'BCA Summary'!$E$1&") total annual entering volume" -> PREFERRED (With BUILD Grant) total annual entering volume | E15: =$G15+(($AD15-$G15)/($AD$4-$E$4))*(E$4-$E$4) -> 0 | F15: =$G15+(($AD15-$G15)/($AD$4-$E$4))*(F$4-$E$4) -> 0 | G15: =(S68+T68)*E52 -> 0 | H15: =$G15+(($AD15-$G15)/($AD$4-$E$4))*(H$4-$E$4) -> 0 | I15: =$G15+(($AD15-$G15)/($AD$4-$E$4))*(I$4-$E$4) -> 0 | J15: =$G15+(($AD15-$G15)/($AD$4-$E$4))*(J$4-$E$4) -> 0 | K15: =$G15+(($AD15-$G15)/($AD$4-$E$4))*(K$4-$E$4) -> 0 | L15: =$G15+(($AD15-$G15)/($AD$4-$E$4))*(L$4-$E$4) -> 0 | M15: =$G15+(($AD15-$G15)/($AD$4-$E$4))*(M$4-$E$4) -> 0 | N15: =$G15+(($AD15-$G15)/($AD$4-$E$4))*(N$4-$E$4) -> 0 | O15: =$G15+(($AD15-$G15)/($AD$4-$E$4))*(O$4-$E$4) -> 0 | ... AC15: =$G15+(($AD15-$G15)/($AD$4-$E$4))*(AC$4-$E$4) -> 0 | AD15: =(U68+V68)*E52 -> 0 | AE15: =$G15+(($AD15-$G15)/($AD$4-$E$4))*(AE$4-$E$4) -> 0 | AF15: =$G15+(($AD15-$G15)/($AD$4-$E$4))*(AF$4-$E$4) -> 0 | AG15: =$G15+(($AD15-$G15)/($AD$4-$E$4))*(AG$4-$E$4) -> 0 | AH15: =$G15+(($AD15-$G15)/($AD$4-$E$4))*(AH$4-$E$4) -> 0 | AI15: =$G15+(($AD15-$G15)/($AD$4-$E$4))*(AI$4-$E$4) -> 0 | AJ15: =$G15+(($AD15-$G15)/($AD$4-$E$4))*(AJ$4-$E$4) -> 0 | AK15: =$G15+(($AD15-$G15)/($AD$4-$E$4))*(AK$4-$E$4) -> 0 | AL15: =$G15+(($AD15-$G15)/($AD$4-$E$4))*(AL$4-$E$4) -> 0 | ... AS15: =$G15+(($AD15-$G15)/($AD$4-$E$4))*(AS$4-$E$4) -> 0
A17: ="BASELINE (No "&'BCA Summary'!$E$1&")" -> BASELINE (No BUILD Grant)
B18: Fatal Crashes
C19: 120th Avenue Interchange | E19: =($P$55*G10)/1000000 -> 0 | F19: =($P$55*F10)/1000000 -> 0 | G19: =($P$55*G10)/1000000 -> 0 | H19: =($P$55*H10)/1000000 -> 0 | I19: =($P$55*I10)/1000000 -> 0 | J19: =($P$55*J10)/1000000 -> 0 | K19: =($P$55*K10)/1000000 -> 0 | L19: =($P$55*L10)/1000000 -> 0 | M19: =($P$55*M10)/1000000 -> 0 | ... AS19: =($P$55*AS10)/1000000 -> 0
C20: 124th Avenue Intersection | E20: =($P$56*G14)/1000000 -> 0 | F20: =($P$56*F14)/1000000 -> 0 | G20: =($P$56*G14)/1000000 -> 0 | H20: =($P$56*H14)/1000000 -> 0 | I20: =($P$56*I14)/1000000 -> 0 | J20: =($P$56*J14)/1000000 -> 0 | K20: =($P$56*K14)/1000000 -> 0 | L20: =($P$56*L14)/1000000 -> 0 | M20: =($P$56*M14)/1000000 -> 0 | ... AS20: =($P$56*AS14)/1000000 -> 0
B21: Injury Crashes, Total Injuries
C22: 120th Avenue Interchange | E22: =(($Q$55*G10)/1000000)*$S$55 -> 6.1753425 | F22: =(($Q$55*F10)/1000000)*$S$55 -> 6.075194 | G22: =(($Q$55*G10)/1000000)*$S$55 -> 6.1753425 | H22: =(($Q$55*H10)/1000000)*$S$55 -> 6.2754909 | I22: =(($Q$55*I10)/1000000)*$S$55 -> 6.5438887 | J22: =(($Q$55*J10)/1000000)*$S$55 -> 6.6360252 | K22: =(($Q$55*K10)/1000000)*$S$55 -> 6.7281618 | L22: =(($Q$55*L10)/1000000)*$S$55 -> 6.8202983 | M22: =(($Q$55*M10)/1000000)*$S$55 -> 6.9124349 | ... AS22: =(($Q$55*AS10)/1000000)*$S$55 -> 9.8608044
C23: 124th Avenue Intersection | E23: =(($Q$56*G14)/1000000)*$S$56 -> 6.3013699 | F23: =(($Q$56*F14)/1000000)*$S$56 -> 6.1249129 | G23: =(($Q$56*G14)/1000000)*$S$56 -> 6.3013699 | H23: =(($Q$56*H14)/1000000)*$S$56 -> 6.4778268 | I23: =(($Q$56*I14)/1000000)*$S$56 -> 6.9507314 | J23: =(($Q$56*J14)/1000000)*$S$56 -> 7.1130717 | K23: =(($Q$56*K14)/1000000)*$S$56 -> 7.2754121 | L23: =(($Q$56*L14)/1000000)*$S$56 -> 7.4377525 | M23: =(($Q$56*M14)/1000000)*$S$56 -> 7.6000929 | ... AS23: =(($Q$56*AS14)/1000000)*$S$56 -> 12.794985
B24: PDO Crashes, Total Vehicles
C25: 120th Avenue Interchange | E25: =(($R$55*G10)/1000000)*$I$60 -> 37.808219 | F25: =(($R$55*F10)/1000000)*$I$60 -> 37.195066 | G25: =(($R$55*G10)/1000000)*$I$60 -> 37.808219 | H25: =(($R$55*H10)/1000000)*$I$60 -> 38.421373 | I25: =(($R$55*I10)/1000000)*$I$60 -> 40.064624 | J25: =(($R$55*J10)/1000000)*$I$60 -> 40.628726 | K25: =(($R$55*K10)/1000000)*$I$60 -> 41.192827 | L25: =(($R$55*L10)/1000000)*$I$60 -> 41.756928 | M25: =(($R$55*M10)/1000000)*$I$60 -> 42.32103 | ... AS25: =(($R$55*AS10)/1000000)*$I$60 -> 60.372272
C26: 124th Avenue Intersection | E26: =(($R$56*G14)/1000000)*$I$61 -> 16.045988 | F26: =(($R$56*F14)/1000000)*$I$61 -> 15.596653 | G26: =(($R$56*G14)/1000000)*$I$61 -> 16.045988 | H26: =(($R$56*H14)/1000000)*$I$61 -> 16.495323 | I26: =(($R$56*I14)/1000000)*$I$61 -> 17.699541 | J26: =(($R$56*J14)/1000000)*$I$61 -> 18.112929 | K26: =(($R$56*K14)/1000000)*$I$61 -> 18.526317 | L26: =(($R$56*L14)/1000000)*$I$61 -> 18.939705 | M26: =(($R$56*M14)/1000000)*$I$61 -> 19.353094 | ... AS26: =(($R$56*AS14)/1000000)*$I$61 -> 32.581515
A28: ="PREFERRED ("&'BCA Summary'!$E$1&")" -> PREFERRED (BUILD Grant)
B29: Fatal Crashes
C30: 120th Avenue Interchange | E30: =($P$57*G11)/1000000 -> 0 | F30: =($P$57*F11)/1000000 -> 0 | G30: =($P$57*G11)/1000000 -> 0 | H30: =($P$57*H11)/1000000 -> 0 | I30: =($P$57*I11)/1000000 -> 0 | J30: =($P$57*J11)/1000000 -> 0 | K30: =($P$57*K11)/1000000 -> 0 | L30: =($P$57*L11)/1000000 -> 0 | M30: =($P$57*M11)/1000000 -> 0 | ... AS30: =($P$57*AS11)/1000000 -> 0
C31: 124th Avenue Intersection | E31: =($P$56*G15)/1000000 -> 0 | F31: =($P$56*F15)/1000000 -> 0 | G31: =($P$56*G15)/1000000 -> 0 | H31: =($P$56*H15)/1000000 -> 0 | I31: =($P$56*I15)/1000000 -> 0 | J31: =($P$56*J15)/1000000 -> 0 | K31: =($P$56*K15)/1000000 -> 0 | L31: =($P$56*L15)/1000000 -> 0 | M31: =($P$56*M15)/1000000 -> 0 | ... AS31: =($P$56*AS15)/1000000 -> 0
B32: Injury Crashes, Total Injuries
C33: 120th Avenue Interchange | E33: =(($Q$57*E11)/1000000)*$S$57 -> 2.2767676 | F33: =(($Q$57*F11)/1000000)*$S$57 -> 2.3692798 | G33: =(($Q$57*G11)/1000000)*$S$57 -> 2.461792 | H33: =(($Q$57*H11)/1000000)*$S$57 -> 2.5543042 | I33: =(($Q$57*I11)/1000000)*$S$57 -> 2.6468163 | J33: =(($Q$57*J11)/1000000)*$S$57 -> 2.7393285 | K33: =(($Q$57*K11)/1000000)*$S$57 -> 2.8318407 | L33: =(($Q$57*L11)/1000000)*$S$57 -> 2.9243529 | ... AS33: =(($Q$57*AS11)/1000000)*$S$57 -> 5.86624
C34: 124th Avenue Intersection | E34: =($Q$56*G15)/1000000 -> 0 | F34: =($Q$56*F15)/1000000 -> 0 | G34: =($Q$56*G15)/1000000 -> 0 | H34: =($Q$56*H15)/1000000 -> 0 | I34: =($Q$56*I15)/1000000 -> 0 | J34: =($Q$56*J15)/1000000 -> 0 | K34: =($Q$56*K15)/1000000 -> 0 | L34: =($Q$56*L15)/1000000 -> 0 | M34: =($Q$56*M15)/1000000 -> 0 | ... AS34: =($Q$56*AS15)/1000000 -> 0
B35: PDO Crashes, Total Vehicles
C36: 120th Avenue Interchange | E36: =(($R$57*G11)/1000000)*$I$62 -> 10.534064 | F36: =(($R$57*F11)/1000000)*$I$62 -> 10.138202 | G36: =(($R$57*G11)/1000000)*$I$62 -> 10.534064 | H36: =(($R$57*H11)/1000000)*$I$62 -> 10.929925 | I36: =(($R$57*I11)/1000000)*$I$62 -> 11.325787 | J36: =(($R$57*J11)/1000000)*$I$62 -> 11.721649 | K36: =(($R$57*K11)/1000000)*$I$62 -> 12.11751 | L36: =(($R$57*L11)/1000000)*$I$62 -> 12.513372 | M36: =(($R$57*M11)/1000000)*$I$62 -> 12.909234 | ... AS36: =(($R$57*AS11)/1000000)*$I$62 -> 25.101774
C37: 124th Avenue Intersection | E37: =($R$56*G15)/1000000 -> 0 | F37: =($R$56*F15)/1000000 -> 0 | G37: =($R$56*G15)/1000000 -> 0 | H37: =($R$56*H15)/1000000 -> 0 | I37: =($R$56*I15)/1000000 -> 0 | J37: =($R$56*J15)/1000000 -> 0 | K37: =($R$56*K15)/1000000 -> 0 | L37: =($R$56*L15)/1000000 -> 0 | M37: =($R$56*M15)/1000000 -> 0 | ... AS37: =($R$56*AS15)/1000000 -> 0
A39: ="BASELINE (No "&'BCA Summary'!$E$1&") Fatal Crashes" -> BASELINE (No BUILD Grant) Fatal Crashes | E39: =SUM(E19:E20) -> 0 | F39: =SUM(F19:F20) -> 0 | G39: =SUM(G19:G20) -> 0 | H39: =SUM(H19:H20) -> 0 | I39: =SUM(I19:I20) -> 0 | J39: =SUM(J19:J20) -> 0 | K39: =SUM(K19:K20) -> 0 | L39: =SUM(L19:L20) -> 0 | ... AS39: =SUM(AS19:AS20) -> 0
A40: ="PREFERRED (With "&'BCA Summary'!$E$1&") Fatal Crashes" -> PREFERRED (With BUILD Grant) Fatal Crashes | E40: =IF(E7="Yes",SUM(E30:E31),E39) -> 0 | F40: =IF(F7="Yes",SUM(F30:F31),F39) -> 0 | G40: =IF(G7="Yes",SUM(G30:G31),G39) -> 0 | H40: =IF(H7="Yes",SUM(H30:H31),H39) -> 0 | I40: =IF(I7="Yes",SUM(I30:I31),I39) -> 0 | J40: =IF(J7="Yes",SUM(J30:J31),J39) -> 0 | K40: =IF(K7="Yes",SUM(K30:K31),K39) -> 0 | L40: =IF(L7="Yes",SUM(L30:L31),L39) -> 0 | ... AS40: =IF(AS7="Yes",SUM(AS30:AS31),AS39) -> 0
A41: DIFFERENCE (Fatal Crashes) | E41: =E39-E40 -> 0 | F41: =F39-F40 -> 0 | G41: =G39-G40 -> 0 | H41: =H39-H40 -> 0 | I41: =I39-I40 -> 0 | J41: =J39-J40 -> 0 | K41: =K39-K40 -> 0 | L41: =L39-L40 -> 0 | ... AS41: =AS39-AS40 -> 0
A43: ="BASELINE (No "&'BCA Summary'!$E$1&") Injuries" -> BASELINE (No BUILD Grant) Injuries | E43: =SUM(E22:E23) -> 12.476712 | F43: =SUM(F22:F23) -> 12.200107 | G43: =SUM(G22:G23) -> 12.476712 | H43: =SUM(H22:H23) -> 12.753318 | I43: =SUM(I22:I23) -> 13.49462 | J43: =SUM(J22:J23) -> 13.749097 | K43: =SUM(K22:K23) -> 14.003574 | L43: =SUM(L22:L23) -> 14.258051 | ... AS43: =SUM(AS22:AS23) -> 22.655789
A44: ="PREFERRED (With "&'BCA Summary'!$E$1&") Injuries" -> PREFERRED (With BUILD Grant) Injuries | E44: =IF(E7="Yes",SUM(E33:E34),E43) -> 12.476712 | F44: =IF(F7="Yes",SUM(F33:F34),F43) -> 12.200107 | G44: =IF(G7="Yes",SUM(G33:G34),G43) -> 12.476712 | H44: =IF(H7="Yes",SUM(H33:H34),H43) -> 12.753318 | I44: =IF(I7="Yes",SUM(I33:I34),I43) -> 13.49462 | J44: =IF(J7="Yes",SUM(J33:J34),J43) -> 13.749097 | K44: =IF(K7="Yes",SUM(K33:K34),K43) -> 14.003574 | L44: =IF(L7="Yes",SUM(L33:L34),L43) -> 14.258051 | ... AS44: =IF(AS7="Yes",SUM(AS33:AS34),AS43) -> 5.86624
A45: DIFFERENCE (Injury Crashes) | E45: =E43-E44 -> 0 | F45: =F43-F44 -> 0 | G45: =G43-G44 -> 0 | H45: =H43-H44 -> 0 | I45: =I43-I44 -> 0 | J45: =J43-J44 -> 0 | K45: =K43-K44 -> 0 | L45: =L43-L44 -> 0 | ... AS45: =AS43-AS44 -> 16.789549
A47: ="BASELINE (No "&'BCA Summary'!$E$1&") PDO Crash Vehicles" -> BASELINE (No BUILD Grant) PDO Crash Vehicles | E47: =SUM(E25:E26) -> 53.854207 | F47: =SUM(F25:F26) -> 52.791719 | G47: =SUM(G25:G26) -> 53.854207 | H47: =SUM(H25:H26) -> 54.916696 | I47: =SUM(I25:I26) -> 57.764165 | J47: =SUM(J25:J26) -> 58.741655 | K47: =SUM(K25:K26) -> 59.719144 | L47: =SUM(L25:L26) -> 60.696634 | ... AS47: =SUM(AS25:AS26) -> 92.953787
A48: ="PREFERRED (With "&'BCA Summary'!$E$1&") PDO Crash Vehicles" -> PREFERRED (With BUILD Grant) PDO Crash Vehicles | E48: =IF(E7="Yes",SUM(E36:E37),E47) -> 53.854207 | F48: =IF(F7="Yes",SUM(F36:F37),F47) -> 52.791719 | G48: =IF(G7="Yes",SUM(G36:G37),G47) -> 53.854207 | H48: =IF(H7="Yes",SUM(H36:H37),H47) -> 54.916696 | I48: =IF(I7="Yes",SUM(I36:I37),I47) -> 57.764165 | J48: =IF(J7="Yes",SUM(J36:J37),J47) -> 58.741655 | K48: =IF(K7="Yes",SUM(K36:K37),K47) -> 59.719144 | L48: =IF(L7="Yes",SUM(L36:L37),L47) -> 60.696634 | ... AS48: =IF(AS7="Yes",SUM(AS36:AS37),AS47) -> 25.101774
...

Sheet Safety - Railroad
A1: Safety - Rail
A2: ='BCA Summary'!A2 -> US 85/120th Avenue Grade-Separation and Interchange Project
F4: ='Summary of Benefits'!E4 -> 2015 | G4: ='Summary of Benefits'!F4 -> 2016 | H4: ='Summary of Benefits'!G4 -> 2017 | I4: ='Summary of Benefits'!H4 -> 2018 | J4: ='Summary of Benefits'!I4 -> 2019 | K4: ='Summary of Benefits'!J4 -> 2020 | L4: ='Summary of Benefits'!K4 -> 2021 | M4: ='Summary of Benefits'!L4 -> 2022 | ... AT4: ='Summary of Benefits'!AS4 -> 2055
A5: ='Timeline & Costs'!A11 -> US 85/120th Avenue Grade-Separation and Interchange Project
B6: ="Baseline (No "&'BCA Summary'!E1&" Grant) Benefits" -> Baseline (No BUILD Grant Grant) Benefits | F6: ='Timeline & Costs'!E$8 -> No | G6: ='Timeline & Costs'!F$8 -> No | H6: ='Timeline & Costs'!G$8 -> No | I6: ='Timeline & Costs'!H$8 -> No | J6: ='Timeline & Costs'!I$8 -> No | K6: ='Timeline & Costs'!J$8 -> No | L6: ='Timeline & Costs'!K$8 -> No | M6: ='Timeline & Costs'!L$8 -> No | ... AT6: ='Timeline & Costs'!AS$8 -> No
B7: ="Preferred (With "&'BCA Summary'!E1&" Grant) Benefits*" -> Preferred (With BUILD Grant Grant) Benefits* | F7: ='Timeline & Costs'!E17 -> 0 | G7: ='Timeline & Costs'!F17 -> 0 | H7: ='Timeline & Costs'!G17 -> 0 | I7: ='Timeline & Costs'!H17 -> No | J7: ='Timeline & Costs'!I17 -> No | K7: ='Timeline & Costs'!J17 -> No | L7: ='Timeline & Costs'!K17 -> No | M7: ='Timeline & Costs'!L17 -> No | ... AT7: ='Timeline & Costs'!AS17 -> Yes
A9: =C12&" Rail Crossing & "&C13&" Rail Crossing" -> 120th Avenue Interchange Rail Crossing & 124th Avenue Intersection Rail Crossing
A10: ="BASELINE (No "&'BCA Summary'!E1&" Grant)" -> BASELINE (No BUILD Grant Grant)
B11: Fatal Crashes
C12: 120th Avenue Interchange | F12: =F66*F71 -> 0.0055257559 | G12: =G66*G71 -> 0.0055257559 | H12: =H66*H71 -> 0.0055907648 | I12: =I66*I71 -> 0.0056557736 | J12: =J66*J71 -> 0.0056557736 | K12: =K66*K71 -> 0.0057207825 | L12: =L66*L71 -> 0.0057207825 | M12: =M66*M71 -> 0.0057727897 | ... AT12: =AT66*AT71 -> 0.0065008892
C13: 124th Avenue Intersection | F13: =F90*F95 -> 0.0020282774 | G13: =G90*G95 -> 0.0020282774 | H13: =H90*H95 -> 0.0021062881 | I13: =I90*I95 -> 0.0021062881 | J13: =J90*J95 -> 0.0021062881 | K13: =K90*K95 -> 0.0021062881 | L13: =L90*L95 -> 0.0021062881 | M13: =M90*M95 -> 0.0021062881 | ... AT13: =AT90*AT95 -> 0.0023403201
B14: Injury Crashes
C15: =$C$12 -> 120th Avenue Interchange | F15: =F66*F75 -> 0.012967126 | G15: =G66*G75 -> 0.012967126 | H15: =H66*H75 -> 0.01311968 | I15: =I66*I75 -> 0.013272235 | J15: =J66*J75 -> 0.013272235 | K15: =K66*K75 -> 0.013424789 | L15: =L66*L75 -> 0.013424789 | M15: =M66*M75 -> 0.013546833 | ... AT15: =AT66*AT75 -> 0.015255442
C16: =$C$13 -> 124th Avenue Intersection | F16: =F90*F99 -> 0.0044029371 | G16: =G90*G99 -> 0.0044029371 | H16: =H90*H99 -> 0.0045722808 | I16: =I90*I99 -> 0.0045722808 | J16: =J90*J99 -> 0.0045722808 | K16: =K90*K99 -> 0.0045722808 | L16: =L90*L99 -> 0.0045722808 | M16: =M90*M99 -> 0.0045722808 | ... AT16: =AT90*AT99 -> 0.005080312
B17: PDO Crashes
C18: =$C$12 -> 120th Avenue Interchange | F18: =F66-F12-F15 -> 0.024007118 | G18: =G66-G12-G15 -> 0.024007118 | H18: =H66-H12-H15 -> 0.024289555 | I18: =I66-I12-I15 -> 0.024571991 | J18: =J66-J12-J15 -> 0.024571991 | K18: =K66-K12-K15 -> 0.024854428 | L18: =L66-L12-L15 -> 0.024854428 | M18: =M66-M12-M15 -> 0.025080378 | ... AT18: =AT66-AT12-AT15 -> 0.028243668
C19: =$C$13 -> 124th Avenue Intersection | F19: =F90-F13-F16 -> 0.0091687855 | G19: =G90-G13-G16 -> 0.0091687855 | H19: =H90-H13-H16 -> 0.009521431 | I19: =I90-I13-I16 -> 0.009521431 | J19: =J90-J13-J16 -> 0.009521431 | K19: =K90-K13-K16 -> 0.009521431 | L19: =L90-L13-L16 -> 0.009521431 | M19: =M90-M13-M16 -> 0.009521431 | ... AT19: =AT90-AT13-AT16 -> 0.010579368
A21: ="PREFERRED (With "&'BCA Summary'!E1&" Grant)" -> PREFERRED (With BUILD Grant Grant)
